BEGIN:VCALENDAR
VERSION:2.0
PRODID:-//eventon.com NONSGML v1.0//EN
BEGIN:VEVENT
UID:69e72d2e42739
DTSTAMP:20260421T075422
DTSTART:20230324T144800Z
DTEND:20230324T144800Z
TZID:Europe/Copenhagen
LOCATION:
SUMMARY:USA TRAVEL SHOW SCANDINAVIA IN COPENHAGEN
DESCRIPTION: \nhttps://unitedspiritnordic.com/events/usa-travel-show-scandinavia-in-copenhagen-2/
URL:https://unitedspiritnordic.com/events/usa-travel-show-scandinavia-in-copenhagen-2/
END:VEVENT
END:VCALENDAR