BEGIN:VCALENDAR
VERSION:2.0
PRODID:-//eventon.com NONSGML v1.0//EN
BEGIN:VEVENT
UID:69eaaed35b8e6
DTSTAMP:20260423T234419
DTSTART:20231211T113300Z
DTEND:20231214T113300Z
TZID:Europe/Copenhagen
LOCATION:Estonia 
SUMMARY:Christmas Fam-trip Estonia
DESCRIPTION: \nhttps://unitedspiritnordic.com/events/christmas-fam-trip-estonia/
URL:https://unitedspiritnordic.com/events/christmas-fam-trip-estonia/
END:VEVENT
END:VCALENDAR